BEGIN:VCALENDAR
VERSION:2.0
PRODID:spatie/icalendar-generator
BEGIN:VTIMEZONE
TZID:UTC
BEGIN:STANDARD
DTSTART:20250724T125105
TZOFFSETFROM:+0000
TZOFFSETTO:+0000
END:STANDARD
END:VTIMEZONE
BEGIN:VEVENT
UID:69e621399a694
DTSTAMP:20260420T125105Z
SUMMARY:After Work Tuesday
DTSTART:20260519T153000Z
DTEND:20260519T170000Z
END:VEVENT
END:VCALENDAR