BEGIN:VCALENDAR
VERSION:2.0
PRODID:spatie/icalendar-generator
BEGIN:VTIMEZONE
TZID:UTC
BEGIN:STANDARD
DTSTART:20250724T124956
TZOFFSETFROM:+0000
TZOFFSETTO:+0000
END:STANDARD
END:VTIMEZONE
BEGIN:VEVENT
UID:69e620f4a4c36
DTSTAMP:20260420T124956Z
SUMMARY:After Work Tuesday
DTSTART:20260428T153000Z
DTEND:20260428T170000Z
END:VEVENT
END:VCALENDAR