BEGIN:VCALENDAR
VERSION:2.0
PRODID:spatie/icalendar-generator
BEGIN:VTIMEZONE
TZID:UTC
BEGIN:STANDARD
DTSTART:20250727T153016
TZOFFSETFROM:+0000
TZOFFSETTO:+0000
END:STANDARD
END:VTIMEZONE
BEGIN:VEVENT
UID:69ea3b08a62ea
DTSTAMP:20260423T153016Z
SUMMARY:La vie moderne – Grafiken von Manet bis Picasso
DTSTART:20260705T080000Z
DTEND:20260705T080000Z
END:VEVENT
END:VCALENDAR