BEGIN:VCALENDAR
VERSION:2.0
PRODID:spatie/icalendar-generator
BEGIN:VTIMEZONE
TZID:UTC
BEGIN:STANDARD
DTSTART:20250727T091246
TZOFFSETFROM:+0000
TZOFFSETTO:+0000
END:STANDARD
END:VTIMEZONE
BEGIN:VEVENT
UID:69e9e28e5600c
DTSTAMP:20260423T091246Z
SUMMARY:La vie moderne – Grafiken von Manet bis Picasso
DTSTART:20260627T080000Z
DTEND:20260627T080000Z
END:VEVENT
END:VCALENDAR