BEGIN:VCALENDAR
VERSION:2.0
PRODID:spatie/icalendar-generator
BEGIN:VTIMEZONE
TZID:UTC
BEGIN:STANDARD
DTSTART:20250727T041850
TZOFFSETFROM:+0000
TZOFFSETTO:+0000
END:STANDARD
END:VTIMEZONE
BEGIN:VEVENT
UID:69e99daacc76e
DTSTAMP:20260423T041850Z
SUMMARY:La vie moderne – Grafiken von Manet bis Picasso
DTSTART:20260621T080000Z
DTEND:20260621T080000Z
END:VEVENT
END:VCALENDAR