BEGIN:VCALENDAR
VERSION:2.0
PRODID:spatie/icalendar-generator
BEGIN:VTIMEZONE
TZID:UTC
BEGIN:STANDARD
DTSTART:20250726T221339
TZOFFSETFROM:+0000
TZOFFSETTO:+0000
END:STANDARD
END:VTIMEZONE
BEGIN:VEVENT
UID:69e9481395439
DTSTAMP:20260422T221339Z
SUMMARY:La vie moderne – Grafiken von Manet bis Picasso
DTSTART:20260613T080000Z
DTEND:20260613T080000Z
END:VEVENT
END:VCALENDAR