BEGIN:VCALENDAR
VERSION:2.0
PRODID:spatie/icalendar-generator
BEGIN:VTIMEZONE
TZID:UTC
BEGIN:STANDARD
DTSTART:20250725T160936
TZOFFSETFROM:+0000
TZOFFSETTO:+0000
END:STANDARD
END:VTIMEZONE
BEGIN:VEVENT
UID:69e7a140cf2ae
DTSTAMP:20260421T160936Z
SUMMARY:La vie moderne – Grafiken von Manet bis Picasso
DTSTART:20260516T080000Z
DTEND:20260516T080000Z
END:VEVENT
END:VCALENDAR