BEGIN:VCALENDAR
VERSION:2.0
PRODID:spatie/icalendar-generator
BEGIN:VTIMEZONE
TZID:UTC
BEGIN:STANDARD
DTSTART:20250725T075850
TZOFFSETFROM:+0000
TZOFFSETTO:+0000
END:STANDARD
END:VTIMEZONE
BEGIN:VEVENT
UID:69e72e3ab4ffd
DTSTAMP:20260421T075850Z
SUMMARY:La vie moderne – Grafiken von Manet bis Picasso
DTSTART:20260512T080000Z
DTEND:20260512T080000Z
END:VEVENT
END:VCALENDAR