BEGIN:VCALENDAR
VERSION:2.0
PRODID:spatie/icalendar-generator
BEGIN:VTIMEZONE
TZID:UTC
BEGIN:STANDARD
DTSTART:20250724T231332
TZOFFSETFROM:+0000
TZOFFSETTO:+0000
END:STANDARD
END:VTIMEZONE
BEGIN:VEVENT
UID:69e6b31c11c82
DTSTAMP:20260420T231332Z
SUMMARY:La vie moderne – Grafiken von Manet bis Picasso
DTSTART:20260509T080000Z
DTEND:20260509T080000Z
END:VEVENT
END:VCALENDAR