BEGIN:VCALENDAR
VERSION:2.0
PRODID:spatie/icalendar-generator
BEGIN:VTIMEZONE
TZID:UTC
BEGIN:STANDARD
DTSTART:20250724T160330
TZOFFSETFROM:+0000
TZOFFSETTO:+0000
END:STANDARD
END:VTIMEZONE
BEGIN:VEVENT
UID:69e64e52bce8f
DTSTAMP:20260420T160330Z
SUMMARY:La vie moderne – Grafiken von Manet bis Picasso
DTSTART:20260507T080000Z
DTEND:20260507T080000Z
END:VEVENT
END:VCALENDAR