BEGIN:VCALENDAR
VERSION:2.0
PRODID:spatie/icalendar-generator
BEGIN:VTIMEZONE
TZID:UTC
BEGIN:STANDARD
DTSTART:20250724T124751
TZOFFSETFROM:+0000
TZOFFSETTO:+0000
END:STANDARD
END:VTIMEZONE
BEGIN:VEVENT
UID:69e6207703379
DTSTAMP:20260420T124751Z
SUMMARY:STUDIO: Elisaveta Braslavskaja
DTSTART:20260520T080000Z
DTEND:20260520T080000Z
END:VEVENT
END:VCALENDAR