BEGIN:VCALENDAR
VERSION:2.0
PRODID:spatie/icalendar-generator
BEGIN:VTIMEZONE
TZID:UTC
BEGIN:STANDARD
DTSTART:20250724T124748
TZOFFSETFROM:+0000
TZOFFSETTO:+0000
END:STANDARD
END:VTIMEZONE
BEGIN:VEVENT
UID:69e62074ee19a
DTSTAMP:20260420T124748Z
SUMMARY:STUDIO: Elisaveta Braslavskaja
DTSTART:20260515T080000Z
DTEND:20260515T080000Z
END:VEVENT
END:VCALENDAR