BEGIN:VCALENDAR
VERSION:2.0
PRODID:spatie/icalendar-generator
BEGIN:VTIMEZONE
TZID:UTC
BEGIN:STANDARD
DTSTART:20250726T145051
TZOFFSETFROM:+0000
TZOFFSETTO:+0000
END:STANDARD
END:VTIMEZONE
BEGIN:VEVENT
UID:69e8e04b1742a
DTSTAMP:20260422T145051Z
SUMMARY:STUDIO: Elisaveta Braslavskaja
DTSTART:20260513T080000Z
DTEND:20260513T080000Z
END:VEVENT
END:VCALENDAR