BEGIN:VCALENDAR
VERSION:2.0
PRODID:spatie/icalendar-generator
BEGIN:VTIMEZONE
TZID:UTC
BEGIN:STANDARD
DTSTART:20250724T114654
TZOFFSETFROM:+0000
TZOFFSETTO:+0000
END:STANDARD
END:VTIMEZONE
BEGIN:VEVENT
UID:69e6122e2268d
DTSTAMP:20260420T114654Z
SUMMARY:STUDIO: Elisaveta Braslavskaja
DTSTART:20260510T080000Z
DTEND:20260510T080000Z
END:VEVENT
END:VCALENDAR