BEGIN:VCALENDAR
VERSION:2.0
PRODID:spatie/icalendar-generator
BEGIN:VTIMEZONE
TZID:UTC
BEGIN:STANDARD
DTSTART:20250726T110704
TZOFFSETFROM:+0000
TZOFFSETTO:+0000
END:STANDARD
END:VTIMEZONE
BEGIN:VEVENT
UID:69e8abd8497b0
DTSTAMP:20260422T110704Z
SUMMARY:STUDIO: Elisaveta Braslavskaja
DTSTART:20260509T080000Z
DTEND:20260509T080000Z
END:VEVENT
END:VCALENDAR