BEGIN:VCALENDAR
VERSION:2.0
PRODID:spatie/icalendar-generator
BEGIN:VTIMEZONE
TZID:UTC
BEGIN:STANDARD
DTSTART:20250724T033545
TZOFFSETFROM:+0000
TZOFFSETTO:+0000
END:STANDARD
END:VTIMEZONE
BEGIN:VEVENT
UID:69e59f11d63cf
DTSTAMP:20260420T033545Z
SUMMARY:STUDIO: Elisaveta Braslavskaja
DTSTART:20260503T080000Z
DTEND:20260503T080000Z
END:VEVENT
END:VCALENDAR