BEGIN:VCALENDAR
VERSION:2.0
PRODID:spatie/icalendar-generator
BEGIN:VTIMEZONE
TZID:UTC
BEGIN:STANDARD
DTSTART:20250727T053937
TZOFFSETFROM:+0000
TZOFFSETTO:+0000
END:STANDARD
END:VTIMEZONE
BEGIN:VEVENT
UID:69e9b099c55d3
DTSTAMP:20260423T053937Z
SUMMARY:STUDIO: Elisaveta Braslavskaja
DTSTART:20260429T080000Z
DTEND:20260429T080000Z
END:VEVENT
END:VCALENDAR