BEGIN:VCALENDAR
VERSION:2.0
PRODID:spatie/icalendar-generator
BEGIN:VTIMEZONE
TZID:UTC
BEGIN:STANDARD
DTSTART:20250725T142639
TZOFFSETFROM:+0000
TZOFFSETTO:+0000
END:STANDARD
END:VTIMEZONE
BEGIN:VEVENT
UID:69e7891f697f5
DTSTAMP:20260421T142639Z
SUMMARY:Fokus Sammlung: Neue Sachlichkeit
DTSTART:20260515T080000Z
DTEND:20260515T080000Z
END:VEVENT
END:VCALENDAR