BEGIN:VCALENDAR
VERSION:2.0
PRODID:spatie/icalendar-generator
BEGIN:VTIMEZONE
TZID:UTC
BEGIN:STANDARD
DTSTART:20250725T101702
TZOFFSETFROM:+0000
TZOFFSETTO:+0000
END:STANDARD
END:VTIMEZONE
BEGIN:VEVENT
UID:69e74e9e9f02a
DTSTAMP:20260421T101702Z
SUMMARY:Fokus Sammlung: Neue Sachlichkeit
DTSTART:20260509T080000Z
DTEND:20260509T080000Z
END:VEVENT
END:VCALENDAR