BEGIN:VCALENDAR
VERSION:2.0
PRODID:spatie/icalendar-generator
BEGIN:VTIMEZONE
TZID:UTC
BEGIN:STANDARD
DTSTART:20250724T112251
TZOFFSETFROM:+0000
TZOFFSETTO:+0000
END:STANDARD
END:VTIMEZONE
BEGIN:VEVENT
UID:69e60c8b7c0c1
DTSTAMP:20260420T112251Z
SUMMARY:Fokus Sammlung: Neue Sachlichkeit
DTSTART:20260506T080000Z
DTEND:20260506T080000Z
END:VEVENT
END:VCALENDAR