BEGIN:VCALENDAR
VERSION:2.0
PRODID:spatie/icalendar-generator
BEGIN:VTIMEZONE
TZID:UTC
BEGIN:STANDARD
DTSTART:20250725T100642
TZOFFSETFROM:+0000
TZOFFSETTO:+0000
END:STANDARD
END:VTIMEZONE
BEGIN:VEVENT
UID:69e74c32c8f72
DTSTAMP:20260421T100642Z
SUMMARY:Fokus Sammlung: Neue Sachlichkeit
DTSTART:20260429T080000Z
DTEND:20260429T080000Z
END:VEVENT
END:VCALENDAR