BEGIN:VCALENDAR
VERSION:2.0
PRODID:spatie/icalendar-generator
BEGIN:VTIMEZONE
TZID:UTC
BEGIN:STANDARD
DTSTART:20250724T092621
TZOFFSETFROM:+0000
TZOFFSETTO:+0000
END:STANDARD
END:VTIMEZONE
BEGIN:VEVENT
UID:69e5f13dd3c97
DTSTAMP:20260420T092621Z
SUMMARY:Die Reimanns - Sabbelstunde mit Manu & Konny
DTSTART:20261008T180000Z
DTEND:20261008T180000Z
END:VEVENT
END:VCALENDAR