BEGIN:VCALENDAR
VERSION:2.0
PRODID:spatie/icalendar-generator
BEGIN:VTIMEZONE
TZID:UTC
BEGIN:STANDARD
DTSTART:20250725T075851
TZOFFSETFROM:+0000
TZOFFSETTO:+0000
END:STANDARD
END:VTIMEZONE
BEGIN:VEVENT
UID:69e72e3bb4c3c
DTSTAMP:20260421T075851Z
SUMMARY:Die Clementa - Scheiß auf Yoga
DTSTART:20260511T173000Z
DTEND:20260511T173000Z
END:VEVENT
END:VCALENDAR