BEGIN:VCALENDAR
VERSION:2.0
PRODID:spatie/icalendar-generator
BEGIN:VTIMEZONE
TZID:UTC
BEGIN:STANDARD
DTSTART:20250724T074451
TZOFFSETFROM:+0000
TZOFFSETTO:+0000
END:STANDARD
END:VTIMEZONE
BEGIN:VEVENT
UID:69e5d973252a8
DTSTAMP:20260420T074451Z
SUMMARY:Özcan Cosar - VIP
DTSTART:20270212T190000Z
DTEND:20270212T190000Z
END:VEVENT
END:VCALENDAR