BEGIN:VCALENDAR
VERSION:2.0
PRODID:spatie/icalendar-generator
BEGIN:VTIMEZONE
TZID:UTC
BEGIN:STANDARD
DTSTART:20250726T061605
TZOFFSETFROM:+0000
TZOFFSETTO:+0000
END:STANDARD
END:VTIMEZONE
BEGIN:VEVENT
UID:69e867a5ade88
DTSTAMP:20260422T061605Z
SUMMARY:Felix Lobrecht - Sell Out
DTSTART:20261120T190000Z
DTEND:20261120T190000Z
END:VEVENT
END:VCALENDAR