BEGIN:VCALENDAR
VERSION:2.0
PRODID:spatie/icalendar-generator
BEGIN:VTIMEZONE
TZID:UTC
BEGIN:STANDARD
DTSTART:20250726T191656
TZOFFSETFROM:+0000
TZOFFSETTO:+0000
END:STANDARD
END:VTIMEZONE
BEGIN:VEVENT
UID:69e91ea8aeb73
DTSTAMP:20260422T191656Z
SUMMARY:Clemens Brock - Der Vadda - Früher war alles besser\, oder?
DTSTART:20261105T190000Z
DTEND:20261105T190000Z
END:VEVENT
END:VCALENDAR