BEGIN:VCALENDAR
VERSION:2.0
PRODID:spatie/icalendar-generator
BEGIN:VTIMEZONE
TZID:UTC
BEGIN:STANDARD
DTSTART:20250725T094307
TZOFFSETFROM:+0000
TZOFFSETTO:+0000
END:STANDARD
END:VTIMEZONE
BEGIN:VEVENT
UID:69e746abc1474
DTSTAMP:20260421T094307Z
SUMMARY:Lars Reichow - Boomerland
DTSTART:20261219T190000Z
DTEND:20261219T190000Z
END:VEVENT
END:VCALENDAR