BEGIN:VCALENDAR
VERSION:2.0
PRODID:spatie/icalendar-generator
BEGIN:VTIMEZONE
TZID:UTC
BEGIN:STANDARD
DTSTART:20250723T170216
TZOFFSETFROM:+0000
TZOFFSETTO:+0000
END:STANDARD
END:VTIMEZONE
BEGIN:VEVENT
UID:69e50a9885b00
DTSTAMP:20260419T170216Z
SUMMARY:CHAKO Habekost - Die neue Show – Es kummt wie's kummt
DTSTART:20270105T190000Z
DTEND:20270105T190000Z
END:VEVENT
END:VCALENDAR