BEGIN:VCALENDAR
VERSION:2.0
PRODID:spatie/icalendar-generator
BEGIN:VTIMEZONE
TZID:UTC
BEGIN:STANDARD
DTSTART:20250728T004035
TZOFFSETFROM:+0000
TZOFFSETTO:+0000
END:STANDARD
END:VTIMEZONE
BEGIN:VEVENT
UID:69eabc035334a
DTSTAMP:20260424T004035Z
SUMMARY:Verstrickt. Kolonialismus und Mannheim
DTSTART:20260922T080000Z
DTEND:20260922T160000Z
END:VEVENT
END:VCALENDAR