BEGIN:VCALENDAR
VERSION:2.0
PRODID:spatie/icalendar-generator
BEGIN:VTIMEZONE
TZID:UTC
BEGIN:STANDARD
DTSTART:20250728T065407
TZOFFSETFROM:+0000
TZOFFSETTO:+0000
END:STANDARD
END:VTIMEZONE
BEGIN:VEVENT
UID:69eb138f7e1c7
DTSTAMP:20260424T065407Z
SUMMARY:Verstrickt. Kolonialismus und Mannheim
DTSTART:20260916T080000Z
DTEND:20260916T160000Z
END:VEVENT
END:VCALENDAR