BEGIN:VCALENDAR
VERSION:2.0
PRODID:spatie/icalendar-generator
BEGIN:VTIMEZONE
TZID:UTC
BEGIN:STANDARD
DTSTART:20250728T115545
TZOFFSETFROM:+0000
TZOFFSETTO:+0000
END:STANDARD
END:VTIMEZONE
BEGIN:VEVENT
UID:69eb5a41bf19c
DTSTAMP:20260424T115545Z
SUMMARY:Verstrickt. Kolonialismus und Mannheim
DTSTART:20260909T080000Z
DTEND:20260909T160000Z
END:VEVENT
END:VCALENDAR