BEGIN:VCALENDAR
VERSION:2.0
PRODID:spatie/icalendar-generator
BEGIN:VTIMEZONE
TZID:UTC
BEGIN:STANDARD
DTSTART:20250728T223644
TZOFFSETFROM:+0000
TZOFFSETTO:+0000
END:STANDARD
END:VTIMEZONE
BEGIN:VEVENT
UID:69ebf07c48edc
DTSTAMP:20260424T223644Z
SUMMARY:Verstrickt. Kolonialismus und Mannheim
DTSTART:20260814T080000Z
DTEND:20260814T160000Z
END:VEVENT
END:VCALENDAR