BEGIN:VCALENDAR
VERSION:2.0
PRODID:spatie/icalendar-generator
BEGIN:VTIMEZONE
TZID:UTC
BEGIN:STANDARD
DTSTART:20250728T204323
TZOFFSETFROM:+0000
TZOFFSETTO:+0000
END:STANDARD
END:VTIMEZONE
BEGIN:VEVENT
UID:69ebd5eb18517
DTSTAMP:20260424T204323Z
SUMMARY:Verstrickt. Kolonialismus und Mannheim
DTSTART:20260812T080000Z
DTEND:20260812T160000Z
END:VEVENT
END:VCALENDAR