BEGIN:VCALENDAR
VERSION:2.0
PRODID:spatie/icalendar-generator
BEGIN:VTIMEZONE
TZID:UTC
BEGIN:STANDARD
DTSTART:20250728T173452
TZOFFSETFROM:+0000
TZOFFSETTO:+0000
END:STANDARD
END:VTIMEZONE
BEGIN:VEVENT
UID:69eba9bc2351b
DTSTAMP:20260424T173452Z
SUMMARY:Verstrickt. Kolonialismus und Mannheim
DTSTART:20260808T080000Z
DTEND:20260808T160000Z
END:VEVENT
END:VCALENDAR