BEGIN:VCALENDAR
VERSION:2.0
PRODID:spatie/icalendar-generator
BEGIN:VTIMEZONE
TZID:UTC
BEGIN:STANDARD
DTSTART:20250728T021021
TZOFFSETFROM:+0000
TZOFFSETTO:+0000
END:STANDARD
END:VTIMEZONE
BEGIN:VEVENT
UID:69ead10d8bdaf
DTSTAMP:20260424T021021Z
SUMMARY:Verstrickt. Kolonialismus und Mannheim
DTSTART:20260724T080000Z
DTEND:20260724T160000Z
END:VEVENT
END:VCALENDAR