BEGIN:VCALENDAR
VERSION:2.0
PRODID:spatie/icalendar-generator
BEGIN:VTIMEZONE
TZID:UTC
BEGIN:STANDARD
DTSTART:20250727T025000
TZOFFSETFROM:+0000
TZOFFSETTO:+0000
END:STANDARD
END:VTIMEZONE
BEGIN:VEVENT
UID:69e988d811659
DTSTAMP:20260423T025000Z
SUMMARY:Verstrickt. Kolonialismus und Mannheim
DTSTART:20260619T080000Z
DTEND:20260619T160000Z
END:VEVENT
END:VCALENDAR