BEGIN:VCALENDAR
VERSION:2.0
PRODID:spatie/icalendar-generator
BEGIN:VTIMEZONE
TZID:UTC
BEGIN:STANDARD
DTSTART:20250726T172629
TZOFFSETFROM:+0000
TZOFFSETTO:+0000
END:STANDARD
END:VTIMEZONE
BEGIN:VEVENT
UID:69e904c522f79
DTSTAMP:20260422T172629Z
SUMMARY:Verstrickt. Kolonialismus und Mannheim
DTSTART:20260606T080000Z
DTEND:20260606T160000Z
END:VEVENT
END:VCALENDAR