BEGIN:VCALENDAR
VERSION:2.0
PRODID:spatie/icalendar-generator
BEGIN:VTIMEZONE
TZID:UTC
BEGIN:STANDARD
DTSTART:20250726T060613
TZOFFSETFROM:+0000
TZOFFSETTO:+0000
END:STANDARD
END:VTIMEZONE
BEGIN:VEVENT
UID:69e8655566ba0
DTSTAMP:20260422T060613Z
SUMMARY:Verstrickt. Kolonialismus und Mannheim
DTSTART:20260527T080000Z
DTEND:20260527T160000Z
END:VEVENT
END:VCALENDAR