BEGIN:VCALENDAR
VERSION:2.0
PRODID:spatie/icalendar-generator
BEGIN:VTIMEZONE
TZID:UTC
BEGIN:STANDARD
DTSTART:20250725T122517
TZOFFSETFROM:+0000
TZOFFSETTO:+0000
END:STANDARD
END:VTIMEZONE
BEGIN:VEVENT
UID:69e76cad0746b
DTSTAMP:20260421T122517Z
SUMMARY:Verstrickt. Kolonialismus und Mannheim
DTSTART:20260513T080000Z
DTEND:20260513T160000Z
END:VEVENT
END:VCALENDAR