BEGIN:VCALENDAR
VERSION:2.0
PRODID:spatie/icalendar-generator
BEGIN:VTIMEZONE
TZID:UTC
BEGIN:STANDARD
DTSTART:20250725T101528
TZOFFSETFROM:+0000
TZOFFSETTO:+0000
END:STANDARD
END:VTIMEZONE
BEGIN:VEVENT
UID:69e74e40d1b1d
DTSTAMP:20260421T101528Z
SUMMARY:Verstrickt. Kolonialismus und Mannheim
DTSTART:20260506T080000Z
DTEND:20260506T160000Z
END:VEVENT
END:VCALENDAR