BEGIN:VCALENDAR
VERSION:2.0
PRODID:spatie/icalendar-generator
BEGIN:VTIMEZONE
TZID:UTC
BEGIN:STANDARD
DTSTART:20250724T105354
TZOFFSETFROM:+0000
TZOFFSETTO:+0000
END:STANDARD
END:VTIMEZONE
BEGIN:VEVENT
UID:69e605c2c0556
DTSTAMP:20260420T105354Z
SUMMARY:Verstrickt. Kolonialismus und Mannheim
DTSTART:20260505T080000Z
DTEND:20260505T160000Z
END:VEVENT
END:VCALENDAR