BEGIN:VCALENDAR
VERSION:2.0
PRODID:spatie/icalendar-generator
BEGIN:VTIMEZONE
TZID:UTC
BEGIN:STANDARD
DTSTART:20250724T104728
TZOFFSETFROM:+0000
TZOFFSETTO:+0000
END:STANDARD
END:VTIMEZONE
BEGIN:VEVENT
UID:69e6044066f70
DTSTAMP:20260420T104728Z
SUMMARY:IMPROTHEATER - die Dschungelshow
DTSTART:20260627T173000Z
DTEND:20260627T193000Z
END:VEVENT
END:VCALENDAR