BEGIN:VCALENDAR
VERSION:2.0
PRODID:spatie/icalendar-generator
BEGIN:VTIMEZONE
TZID:UTC
BEGIN:STANDARD
DTSTART:20250724T113828
TZOFFSETFROM:+0000
TZOFFSETTO:+0000
END:STANDARD
END:VTIMEZONE
BEGIN:VEVENT
UID:69e61034be701
DTSTAMP:20260420T113828Z
SUMMARY:IMPROTHEATER - die Dschungelshow
DTSTART:20260530T173000Z
DTEND:20260530T193000Z
END:VEVENT
END:VCALENDAR