BEGIN:VCALENDAR
VERSION:2.0
PRODID:spatie/icalendar-generator
BEGIN:VTIMEZONE
TZID:UTC
BEGIN:STANDARD
DTSTART:20250725T110856
TZOFFSETFROM:+0000
TZOFFSETTO:+0000
END:STANDARD
END:VTIMEZONE
BEGIN:VEVENT
UID:69e75ac85ee55
DTSTAMP:20260421T110856Z
SUMMARY:Florian Schroeder - Schluss jetzt! Der satirische Jahresrückblick
DTSTART:20261218T190000Z
DTEND:20261218T190000Z
END:VEVENT
END:VCALENDAR