BEGIN:VCALENDAR
VERSION:2.0
PRODID:spatie/icalendar-generator
BEGIN:VTIMEZONE
TZID:UTC
BEGIN:STANDARD
DTSTART:20250725T171712
TZOFFSETFROM:+0000
TZOFFSETTO:+0000
END:STANDARD
END:VTIMEZONE
BEGIN:VEVENT
UID:69e7b11808606
DTSTAMP:20260421T171712Z
SUMMARY:Café Colibri - Deutsch sprechen in der Neckarstadt-West
DTSTART:20260424T130000Z
DTEND:20260424T140000Z
END:VEVENT
END:VCALENDAR