BEGIN:VCALENDAR
VERSION:2.0
PRODID:spatie/icalendar-generator
BEGIN:VTIMEZONE
TZID:UTC
BEGIN:STANDARD
DTSTART:20250727T212857
TZOFFSETFROM:+0000
TZOFFSETTO:+0000
END:STANDARD
END:VTIMEZONE
BEGIN:VEVENT
UID:69ea8f191abd3
DTSTAMP:20260423T212857Z
SUMMARY:Generation XY: Die 80er\, die 90er und das Leben heute–Comedy-Sho
 w von Olaf Bossi
DTSTART:20260926T180000Z
DTEND:20260926T180000Z
END:VEVENT
END:VCALENDAR