BEGIN:VCALENDAR
VERSION:2.0
PRODID:spatie/icalendar-generator
BEGIN:VTIMEZONE
TZID:UTC
BEGIN:STANDARD
DTSTART:20250724T104835
TZOFFSETFROM:+0000
TZOFFSETTO:+0000
END:STANDARD
END:VTIMEZONE
BEGIN:VEVENT
UID:69e60483b992c
DTSTAMP:20260420T104835Z
SUMMARY:Fabian Köster – LIVE - 10 Jahre Reporter – fast – ohne Grenz
 en
DTSTART:20261027T190000Z
DTEND:20261027T190000Z
END:VEVENT
END:VCALENDAR