BEGIN:VCALENDAR
VERSION:2.0
PRODID:spatie/icalendar-generator
BEGIN:VTIMEZONE
TZID:UTC
BEGIN:STANDARD
DTSTART:20250724T105001
TZOFFSETFROM:+0000
TZOFFSETTO:+0000
END:STANDARD
END:VTIMEZONE
BEGIN:VEVENT
UID:69e604d911933
DTSTAMP:20260420T105001Z
SUMMARY:CRIME – Die Technik des Verbrechens
DTSTART:20270608T070000Z
DTEND:20270608T070000Z
END:VEVENT
END:VCALENDAR