BEGIN:VCALENDAR
VERSION:2.0
PRODID:spatie/icalendar-generator
BEGIN:VTIMEZONE
TZID:UTC
BEGIN:STANDARD
DTSTART:20250724T110322
TZOFFSETFROM:+0000
TZOFFSETTO:+0000
END:STANDARD
END:VTIMEZONE
BEGIN:VEVENT
UID:69e607fa03694
DTSTAMP:20260420T110322Z
SUMMARY:CRIME – Die Technik des Verbrechens
DTSTART:20270604T070000Z
DTEND:20270604T070000Z
END:VEVENT
END:VCALENDAR