BEGIN:VCALENDAR
VERSION:2.0
PRODID:spatie/icalendar-generator
BEGIN:VTIMEZONE
TZID:UTC
BEGIN:STANDARD
DTSTART:20250727T120241
TZOFFSETFROM:+0000
TZOFFSETTO:+0000
END:STANDARD
END:VTIMEZONE
BEGIN:VEVENT
UID:69ea0a619449b
DTSTAMP:20260423T120241Z
SUMMARY:CRIME – Die Technik des Verbrechens
DTSTART:20270501T070000Z
DTEND:20270501T070000Z
END:VEVENT
END:VCALENDAR